BEGIN:VCALENDAR
VERSION:2.0
PRODID:-//Wisconsin Destination Imagination - ECPv6.15.20//NONSGML v1.0//EN
CALSCALE:GREGORIAN
METHOD:PUBLISH
X-ORIGINAL-URL:https://wisconsindi.org
X-WR-CALDESC:Events for Wisconsin Destination Imagination
REFRESH-INTERVAL;VALUE=DURATION:PT1H
X-Robots-Tag:noindex
X-PUBLISHED-TTL:PT1H
BEGIN:VTIMEZONE
TZID:America/Chicago
BEGIN:DAYLIGHT
TZOFFSETFROM:-0600
TZOFFSETTO:-0500
TZNAME:CDT
DTSTART:20230312T080000
END:DAYLIGHT
BEGIN:STANDARD
TZOFFSETFROM:-0500
TZOFFSETTO:-0600
TZNAME:CST
DTSTART:20231105T070000
END:STANDARD
BEGIN:DAYLIGHT
TZOFFSETFROM:-0600
TZOFFSETTO:-0500
TZNAME:CDT
DTSTART:20240310T080000
END:DAYLIGHT
BEGIN:STANDARD
TZOFFSETFROM:-0500
TZOFFSETTO:-0600
TZNAME:CST
DTSTART:20241103T070000
END:STANDARD
BEGIN:DAYLIGHT
TZOFFSETFROM:-0600
TZOFFSETTO:-0500
TZNAME:CDT
DTSTART:20250309T080000
END:DAYLIGHT
BEGIN:STANDARD
TZOFFSETFROM:-0500
TZOFFSETTO:-0600
TZNAME:CST
DTSTART:20251102T070000
END:STANDARD
END:VTIMEZONE
BEGIN:VEVENT
DTSTART;TZID=America/Chicago:20240110T190000
DTEND;TZID=America/Chicago:20240110T200000
DTSTAMP:20260425T173600
CREATED:20240106T233030Z
LAST-MODIFIED:20240106T233614Z
UID:3349-1704913200-1704916800@wisconsindi.org
SUMMARY:Challenge Master Basics
DESCRIPTION:Challenge Master Basics \nRequired for new Wisconsin Destination Imagination (WIDI) Challenge Masters (CM) and Affiliate Challenge Masters (ACM)\, but all WIDI CMs are welcome. \nJoin WIDI for a discussion on the nuts and bolts of being a CM. Virtual link will be sent out closer to the date. \nJanuary 10\, 2024\, 7 PM CT \nAll registered WIDI Challenge Masters should have received an email from Elliott Kaas\, WIDI Board of Directors ACM Representative\, and WIDI Instant Challenge ACM.  If you are a WIDI Challenge Master and did not receive the email please contact Elliott at elliott.kaas@wisconsindi.org. \n 
URL:https://wisconsindi.org/event/challenge-master-basics/
LOCATION:ONLINE
CATEGORIES:ACM/RCM Training,Challenge Master
ATTACH;FMTTYPE=image/png:https://wisconsindi.org/wp-content/uploads/2024/01/CM-Basics-2024.png
END:VEVENT
END:VCALENDAR