BEGIN:VCALENDAR
VERSION:2.0
PRODID:-//Wisconsin Destination Imagination - ECPv6.15.20//NONSGML v1.0//EN
CALSCALE:GREGORIAN
METHOD:PUBLISH
X-ORIGINAL-URL:https://wisconsindi.org
X-WR-CALDESC:Events for Wisconsin Destination Imagination
REFRESH-INTERVAL;VALUE=DURATION:PT1H
X-Robots-Tag:noindex
X-PUBLISHED-TTL:PT1H
BEGIN:VTIMEZONE
TZID:UTC
BEGIN:STANDARD
TZOFFSETFROM:+0000
TZOFFSETTO:+0000
TZNAME:UTC
DTSTART:20230101T000000
END:STANDARD
END:VTIMEZONE
BEGIN:VEVENT
DTSTART;TZID=UTC:20240302T080000
DTEND;TZID=UTC:20240302T170000
DTSTAMP:20260425T122425
CREATED:20230929T234627Z
LAST-MODIFIED:20231007T021636Z
UID:3232-1709366400-1709398800@wisconsindi.org
SUMMARY:Southeast Sectional Tournament
DESCRIPTION:The 2024 Southeast Sectional Tournament will be held on Saturday\, March 2\, 2024 at the Muskego High School. \nTeams from the Milwaukee and South Central regions will compete at the Southeast Sectional Tournament.
URL:https://wisconsindi.org/event/southeast-sectional-tournament/
LOCATION:Muskego High School\, W183S8750 Racine Ave.\, Muskego\, WI\, 53150\, United States
CATEGORIES:Tournaments
END:VEVENT
END:VCALENDAR