BEGIN:VCALENDAR
VERSION:2.0
PRODID:-//Wisconsin Destination Imagination - ECPv6.15.20//NONSGML v1.0//EN
CALSCALE:GREGORIAN
METHOD:PUBLISH
X-ORIGINAL-URL:https://wisconsindi.org
X-WR-CALDESC:Events for Wisconsin Destination Imagination
REFRESH-INTERVAL;VALUE=DURATION:PT1H
X-Robots-Tag:noindex
X-PUBLISHED-TTL:PT1H
BEGIN:VTIMEZONE
TZID:America/Chicago
BEGIN:DAYLIGHT
TZOFFSETFROM:-0600
TZOFFSETTO:-0500
TZNAME:CDT
DTSTART:20230312T080000
END:DAYLIGHT
BEGIN:STANDARD
TZOFFSETFROM:-0500
TZOFFSETTO:-0600
TZNAME:CST
DTSTART:20231105T070000
END:STANDARD
BEGIN:DAYLIGHT
TZOFFSETFROM:-0600
TZOFFSETTO:-0500
TZNAME:CDT
DTSTART:20240310T080000
END:DAYLIGHT
BEGIN:STANDARD
TZOFFSETFROM:-0500
TZOFFSETTO:-0600
TZNAME:CST
DTSTART:20241103T070000
END:STANDARD
BEGIN:DAYLIGHT
TZOFFSETFROM:-0600
TZOFFSETTO:-0500
TZNAME:CDT
DTSTART:20250309T080000
END:DAYLIGHT
BEGIN:STANDARD
TZOFFSETFROM:-0500
TZOFFSETTO:-0600
TZNAME:CST
DTSTART:20251102T070000
END:STANDARD
END:VTIMEZONE
BEGIN:VEVENT
DTSTART;TZID=America/Chicago:20240406T080000
DTEND;TZID=America/Chicago:20240406T170000
DTSTAMP:20260425T121808
CREATED:20230826T012422Z
LAST-MODIFIED:20231227T002112Z
UID:3106-1712390400-1712422800@wisconsindi.org
SUMMARY:Wisconsin Affiliate Tournament 2024
DESCRIPTION:The 2024 Wisconsin Affiliate Tournament tournament is scheduled for Saturday\, April 6\, 2024\, on the UW-Green Bay campus in Green Bay\, WI. \nWIDI 2024 Affiliate Tournament Hotel Blocks \nHampton Inn Green Bay  – Direct link to room block reservations \n830 Morris Avenue Green Bay\, Wisconsin 54304\n$135 King\n$150 double queen \nMust reserve by 3/5/24 or block is released
URL:https://wisconsindi.org/event/wisconsin-affiliate-tournament-2024/
LOCATION:UW Green Bay\, 2420 Nicolet Dr.\, Green Bay\, WI\, 54311\, United States
CATEGORIES:Tournaments
END:VEVENT
END:VCALENDAR