BEGIN:VCALENDAR
VERSION:2.0
PRODID:-//Wisconsin Destination Imagination - ECPv6.15.20//NONSGML v1.0//EN
CALSCALE:GREGORIAN
METHOD:PUBLISH
X-ORIGINAL-URL:https://wisconsindi.org
X-WR-CALDESC:Events for Wisconsin Destination Imagination
REFRESH-INTERVAL;VALUE=DURATION:PT1H
X-Robots-Tag:noindex
X-PUBLISHED-TTL:PT1H
BEGIN:VTIMEZONE
TZID:UTC
BEGIN:STANDARD
TZOFFSETFROM:+0000
TZOFFSETTO:+0000
TZNAME:UTC
DTSTART:20240101T000000
END:STANDARD
END:VTIMEZONE
BEGIN:VEVENT
DTSTART;TZID=UTC:20250115T190000
DTEND;TZID=UTC:20250115T200000
DTSTAMP:20260424T220929
CREATED:20250115T022700Z
LAST-MODIFIED:20250115T022700Z
UID:4157-1736967600-1736971200@wisconsindi.org
SUMMARY:Think Like an Appraiser Team Manager Training
DESCRIPTION:In this training\, you will learn how to break down a Challenge\, effectively complete tournament data forms\, understand Scoring\, and prepare your team for the Tournament by understanding what Appraisers are looking for as they Appraise your team on Tournament day! \nThis training is open to both experienced and new Team Managers. \nRegister here: https://TINYURL.COM/WI-TLAA
URL:https://wisconsindi.org/event/think-like-an-appraiser-team-manager-training-2/
LOCATION:ONLINE
CATEGORIES:Team Manager Training
ATTACH;FMTTYPE=image/jpeg:https://wisconsindi.org/wp-content/uploads/2025/01/thinklikeandappraiser.jpeg
END:VEVENT
END:VCALENDAR