BEGIN:VCALENDAR
VERSION:2.0
PRODID:-//Wisconsin Destination Imagination - ECPv6.15.20//NONSGML v1.0//EN
CALSCALE:GREGORIAN
METHOD:PUBLISH
X-ORIGINAL-URL:https://wisconsindi.org
X-WR-CALDESC:Events for Wisconsin Destination Imagination
REFRESH-INTERVAL;VALUE=DURATION:PT1H
X-Robots-Tag:noindex
X-PUBLISHED-TTL:PT1H
BEGIN:VTIMEZONE
TZID:UTC
BEGIN:STANDARD
TZOFFSETFROM:+0000
TZOFFSETTO:+0000
TZNAME:UTC
DTSTART:20240101T000000
END:STANDARD
END:VTIMEZONE
BEGIN:VEVENT
DTSTART;TZID=UTC:20250118T090000
DTEND;TZID=UTC:20250118T103000
DTSTAMP:20260424T220710
CREATED:20250113T230038Z
LAST-MODIFIED:20250113T230038Z
UID:4134-1737190800-1737196200@wisconsindi.org
SUMMARY:Wisconsin Destination Imagination South Central Region Team Manager Information Session
DESCRIPTION:The Wisconsin Destination Imagination South Central Region is holding an in-person Team Manager tournament information session on Saturday 1/18/25 at Sacred Hearts School from 9 – 10:30 AM. \n\nRSVP’s can be submitted here: https://forms.gle/ph1fxDFYnif7BrWA7
URL:https://wisconsindi.org/event/wisconsin-destination-imagination-south-central-region-team-manager-information-session/
LOCATION:Sacred Hearts of Jesus and Mary Catholic School\, 219 Columbus St.\, Sun Prairie\, Wisconsin
CATEGORIES:Team Manager Training
ATTACH;FMTTYPE=image/png:https://wisconsindi.org/wp-content/uploads/2025/01/2025-team-manager-south-central.png
END:VEVENT
END:VCALENDAR