BEGIN:VCALENDAR
VERSION:2.0
PRODID:-//Wisconsin Destination Imagination - ECPv6.15.20//NONSGML v1.0//EN
CALSCALE:GREGORIAN
METHOD:PUBLISH
X-WR-CALNAME:Wisconsin Destination Imagination
X-ORIGINAL-URL:https://wisconsindi.org
X-WR-CALDESC:Events for Wisconsin Destination Imagination
REFRESH-INTERVAL;VALUE=DURATION:PT1H
X-Robots-Tag:noindex
X-PUBLISHED-TTL:PT1H
BEGIN:VTIMEZONE
TZID:UTC
BEGIN:STANDARD
TZOFFSETFROM:+0000
TZOFFSETTO:+0000
TZNAME:UTC
DTSTART:20240101T000000
END:STANDARD
END:VTIMEZONE
BEGIN:VEVENT
DTSTART;TZID=UTC:20250715T000000
DTEND;TZID=UTC:20250715T120000
DTSTAMP:20260424T064740
CREATED:20250629T124913Z
LAST-MODIFIED:20250629T124913Z
UID:4744-1752537600-1752580800@wisconsindi.org
SUMMARY:2025-26 Team Numbers Go On Sale
DESCRIPTION:Tuesday\, July 15\, 2025\, 2025-26 Team Numbers will be available for purchase!\nPurchasers will get instant access to the Team Manager Roadmap & Practice Instant Challenges at that time.\nPurchasers and 2025-26 Team Managers assigned to a Team Number with a qualified background check will get access to the full 2025-26 Team Challenges starting Friday\, August 1\, 2025.\nThe cost of a team number is $165\, and in Wisconsin\, a $100 Affiliate fee is due at the time of purchase.  A Team Number is required to participate in any tournament.  Tournament registration fees are separate. \nVisit DIHQ’s website for purchasing infomation: https://resources.destinationimagination.org/shop.php
URL:https://wisconsindi.org/event/2025-26-team-numbers-go-on-sale/
CATEGORIES:DI Teams
ATTACH;FMTTYPE=image/png:https://wisconsindi.org/wp-content/uploads/2025/06/di-2025-26-team-numbers-2.png
END:VEVENT
END:VCALENDAR