BEGIN:VCALENDAR
VERSION:2.0
PRODID:-//Wisconsin Destination Imagination - ECPv6.15.20//NONSGML v1.0//EN
CALSCALE:GREGORIAN
METHOD:PUBLISH
X-ORIGINAL-URL:https://wisconsindi.org
X-WR-CALDESC:Events for Wisconsin Destination Imagination
REFRESH-INTERVAL;VALUE=DURATION:PT1H
X-Robots-Tag:noindex
X-PUBLISHED-TTL:PT1H
BEGIN:VTIMEZONE
TZID:UTC
BEGIN:STANDARD
TZOFFSETFROM:+0000
TZOFFSETTO:+0000
TZNAME:UTC
DTSTART:20250101T000000
END:STANDARD
END:VTIMEZONE
BEGIN:VEVENT
DTSTART;TZID=UTC:20260307T080000
DTEND;TZID=UTC:20260307T170000
DTSTAMP:20260423T192536
CREATED:20250629T143717Z
LAST-MODIFIED:20250708T224059Z
UID:4750-1772870400-1772902800@wisconsindi.org
SUMMARY:Wisconsin Destination Imagination 2026 South Central Regional Tournament
DESCRIPTION:Student-led teams from all over Northeast Wisconsin will present their solutions to the 2025 – 26 Destination Imagination® (DI) Challenges at the South Central Regional Tournament at Parkview High School on March 7\, 2026! \n2025 – 26 teams are forming soon! Visit https://www.destinationimagination.org to purchase your team number. \nIf you have any questions about how to get involved\, what DI is\, or how to start a program\, please contact us today. Click here to find your region and contact your Regional Directors (RD) for more information. \nTeams at the Elementary Level (EL)\, Middle Level (ML)\, and Secondary Level (SL) will compete in the level of their chosen Challenge (Technical\, Scientific\, Fine Arts\, Improv\, Engineering\, and Service Learning) as well as an Instant Challenge. Early Learning teams (Rising Stars!) will present their Challenge solutions to Appraisers for positive feedback and celebrate their accomplishments for the season. \nStay tuned for tournament registration information.
URL:https://wisconsindi.org/event/wisconsin-destination-imagination-2026-south-central-regional-tournament/
LOCATION:Parkview High School\, 408 West Beloit Street\, Orfordville\, United States
CATEGORIES:DI Teams,Tournaments
ATTACH;FMTTYPE=image/png:https://wisconsindi.org/wp-content/uploads/2025/06/widi-tournament-south-central-3.png
END:VEVENT
END:VCALENDAR