BEGIN:VCALENDAR
VERSION:2.0
PRODID:-//Wisconsin Destination Imagination - ECPv6.15.20//NONSGML v1.0//EN
CALSCALE:GREGORIAN
METHOD:PUBLISH
X-ORIGINAL-URL:https://wisconsindi.org
X-WR-CALDESC:Events for Wisconsin Destination Imagination
REFRESH-INTERVAL;VALUE=DURATION:PT1H
X-Robots-Tag:noindex
X-PUBLISHED-TTL:PT1H
BEGIN:VTIMEZONE
TZID:UTC
BEGIN:STANDARD
TZOFFSETFROM:+0000
TZOFFSETTO:+0000
TZNAME:UTC
DTSTART:20220101T000000
END:STANDARD
END:VTIMEZONE
BEGIN:VEVENT
DTSTART;TZID=UTC:20260201T130000
DTEND;TZID=UTC:20260201T152000
DTSTAMP:20260423T193219
CREATED:20251210T140147Z
LAST-MODIFIED:20251210T144958Z
UID:5237-1769950800-1769959200@wisconsindi.org
SUMMARY:Southeast Regional Instant Challenge (IC) Workshop
DESCRIPTION:The SE Region is sponsoring a free IC workshop on Sunday\, Feb. 1\, 2025\, from 1 to 3:20 pm at Longfellow Middle School\, 7600 W. North Ave.\, Wauwatosa. \nTeams will have the opportunity to complete 4 different Instant Challenges and receive feedback from DI volunteers. \n\nThis is for competitive teams only–no Rising Stars/Early Learners. The workshop is free\, but pre-registration is required. \n\nTeams MUST be accompanied by a Team Manager or other trusted adult. It is OK to bring only part of your team\, but you should have at least two team members to participate.\n\n\nInterested teams can sign up here: https://forms.gle/vyWW5DMrUNojb6u17
URL:https://wisconsindi.org/event/southeast-regional-instant-challenge-ic-workshop/
LOCATION:Longfellow Middle School\, 7600 W. North Ave\, Wauwatosa\, WI
CATEGORIES:DI Teams,Instant Challenge
ATTACH;FMTTYPE=image/png:https://wisconsindi.org/wp-content/uploads/2025/12/widi-tournament-southeast-5.png
ORGANIZER;CN="Southeast Region":MAILTO:anne.coulling@wisconsindi.org
END:VEVENT
BEGIN:VEVENT
DTSTART;TZID=UTC:20260117T090000
DTEND;TZID=UTC:20260117T130000
DTSTAMP:20260423T193219
CREATED:20251210T142346Z
LAST-MODIFIED:20251210T142655Z
UID:5244-1768640400-1768654800@wisconsindi.org
SUMMARY:South Central Regional Instant Challenge (IC) Workshop & Tournament Round Table
DESCRIPTION:South Central Instant Challenge Workshop & Round Table\nJanuary 17\, 2026\, beginning at 9 AM. \nParkview Junior/ Senior High School 408 West Beloit Street\, Orfordville\, WI 53576 \nRegister here by January 3\, 2026: https://forms.gle/vTGu7yMd39khFnDZ7 \nSchedule:\nThe Instant Challenge Workshop will consist of 6 unique challenges (2 of each challenge “type”) for teams to complete. We will meet in the Commons at 9 am. We will end the IC portion of the day at approximately 12 pm. \nRound Table: We will be starting at approximately 12 pm\, when the IC workshop is done. Teams will get the chance to tour the challenge sites and ask questions. \nContact Ashley Nelson at ashley.nelson@wisconsindi.org or 608-373-4052 with questions or if you would like to help run an Instant Challenge! \n*All teams MUST have a Team Manager or other adult assigned to them to attend. Each team attending must fill out this form separately. *
URL:https://wisconsindi.org/event/south-central-regional-instant-challenge-ic-workshop-tournament-round-table/
LOCATION:Parkview High School\, 408 West Beloit Street\, Orfordville\, United States
CATEGORIES:DI Teams,Instant Challenge
ATTACH;FMTTYPE=image/png:https://wisconsindi.org/wp-content/uploads/2025/12/widi-tournament-southeast-7.png
ORGANIZER;CN="South Central Region":MAILTO:ashley.nelson@wisconsindi.org
END:VEVENT
BEGIN:VEVENT
DTSTART;TZID=UTC:20251124T190000
DTEND;TZID=UTC:20251124T210000
DTSTAMP:20260423T193219
CREATED:20251031T005935Z
LAST-MODIFIED:20251106T180900Z
UID:5211-1764010800-1764018000@wisconsindi.org
SUMMARY:Challenge Accepted! Instant Challenge Basics Webinar
DESCRIPTION:Join this fun\, virtual training to learn the essentials of Instant Challenge. Discover the types of challenges and strategies to guide your team to creative success! \nRegister: https://tinyurl.com/WI-ICB \n\n\nClick here to download the Instant Challenge Quick Start Guide.
URL:https://wisconsindi.org/event/challenge-accepted-instant-challenge-basics-webinar/
LOCATION:ONLINE
CATEGORIES:DI Teams,Instant Challenge,Team Manager Training
ATTACH;FMTTYPE=image/png:https://wisconsindi.org/wp-content/uploads/2025/10/widi-tournament-2026-affiliate-2.png
END:VEVENT
BEGIN:VEVENT
DTSTART;TZID=UTC:20250202T130000
DTEND;TZID=UTC:20250202T152000
DTSTAMP:20260423T193219
CREATED:20250116T005054Z
LAST-MODIFIED:20251210T144800Z
UID:4160-1738501200-1738509600@wisconsindi.org
SUMMARY:Southeast Regional Instant Challenge Workshop
DESCRIPTION:The Southeast Region’s annual Instant Challenge workshop will be held Sunday\, February 2\, 2025\, from 1 to 3:20 PM at the Milwaukee School of Engineering Campus Center\, 1025 N. Broadway\, in downtown Milwaukee. \nTeams will have the opportunity to complete 4 different Instant Challenges and receive feedback from DI volunteers.\nThis is for elementary and middle-level teams only. \nThe workshop is free\, but pre-registration is required. Register here: https://forms.gle/bmqBpTLL3PprNGkt5. \nTeams MUST be accompanied by a team manager or other trusted adult. It is OK to bring only part of your team\, but you should have at least two team members to participate. This workshop is open to any Wisconsin team in any region.
URL:https://wisconsindi.org/event/southeast-regional-instant-challenge-workshop/
LOCATION:Milwaukee School of Engineering Campus Center\, 1025 N. Broadway\, Milwaukee\, WI\, 53202\, United States
CATEGORIES:DI Teams,Instant Challenge
ATTACH;FMTTYPE=image/png:https://wisconsindi.org/wp-content/uploads/2025/01/2025ic-workshop-southeast.png
END:VEVENT
BEGIN:VEVENT
DTSTART;TZID=UTC:20241005T090000
DTEND;TZID=UTC:20241005T120000
DTSTAMP:20260423T193219
CREATED:20240919T212901Z
LAST-MODIFIED:20240927T151141Z
UID:4084-1728118800-1728129600@wisconsindi.org
SUMMARY:Improvisation Acting Workshop
DESCRIPTION:You are invited to join ComedySportz Twin Cities for an Improvisation Acting Workshop! The workshop is free\, but space is limited\, and pre-registration is required! Sign up at: https://tinyurl.com/iawnw \nBrush up on your Improv skills or learn some new ones. Improv acting skills can be used for an Instant Challenge or even a Central Challenge. \nWhen: Saturday\, Oct. 5\, 2024 \n\n9 – 10:20 AM: Grades 3 – 5\n10:40 AM – 12 PM : Grades 6 – 8\n\nWhere:  Willow River Elementary School 1118 4th St.\, Hudson WI \nThe workshop is sponsored by Wisconsin Destination Imagination.\n\nAbout ComedySportz Twin Cities:  Since opening in 1989\, CSz Twin Cities has been producing and performing hilarious improv comedy shows including our flagship show ComedySportz! \nComedySportz is fast-paced improv comedy played as a sport! Two teams of actors create short comedy games and scenes on the spot based on audience suggestions to earn points and laughs. You\, the audience\, assist in the comedy by yelling out the suggestions and voting each round to award points!  \nComedySportz is rated E for Everyone!
URL:https://wisconsindi.org/event/improvisation-acting-workshop/
LOCATION:Willow River Elementary School 1118 4th St.\, Hudson WI\, 1118 4th St.\, Hudson\, wi
CATEGORIES:DI Teams,Instant Challenge
ATTACH;FMTTYPE=image/png:https://wisconsindi.org/wp-content/uploads/2024/09/wisc-DI-improv-workshop-Hudson-2.png
END:VEVENT
BEGIN:VEVENT
DTSTART;TZID=UTC:20230205T120000
DTEND;TZID=UTC:20230205T140000
DTSTAMP:20260423T193219
CREATED:20230127T143122Z
LAST-MODIFIED:20230127T143122Z
UID:2628-1675598400-1675605600@wisconsindi.org
SUMMARY:Instant Challenge Workshop
DESCRIPTION:Wisconsin Destination Imagination (WIDI) is hosting a free Instant Challenge (IC) workshop for competitive teams on Sunday\, February 5\, 2023 from noon to 2 pm at the Milwaukee School of Engineering Campus Center\, 1025 N. Broadway in downtown Milwaukee\, WI. \nTeams will have the chance to complete five different Instant Challenges. Remember\, IC counts for 25% of your total score at tournaments! \nSpots are still available\, but pre-registration is required. Your entire team does not have to attend–even if one or more members are missing\, the rest of the team can still benefit from the workshop–but each team MUST be accompanied by a team manager or other trusted adult. \nThis workshop is for competitive teams only and is not appropriate for Rising Stars. You can sign up here: https://www.eventbrite.com/e/instant-challenge-workshop-tickets-477621999257.
URL:https://wisconsindi.org/event/instant-challenge-workshop/
LOCATION:Milwaukee School of Engineering Campus Center\, 1025 N. Broadway\, Milwaukee\, WI\, 53202\, United States
CATEGORIES:DI Teams,Instant Challenge
ATTACH;FMTTYPE=image/png:https://wisconsindi.org/wp-content/uploads/2023/01/mke-ic-workshop-2023.png
ORGANIZER;CN="Milwaukee and Kettle Moraine Regional Destination Imagination":MAILTO:anne.coulling@wisconsindi.org
END:VEVENT
END:VCALENDAR