BEGIN:VCALENDAR
VERSION:2.0
PRODID:-//Wisconsin Destination Imagination - ECPv6.15.20//NONSGML v1.0//EN
CALSCALE:GREGORIAN
METHOD:PUBLISH
X-WR-CALNAME:Wisconsin Destination Imagination
X-ORIGINAL-URL:https://wisconsindi.org
X-WR-CALDESC:Events for Wisconsin Destination Imagination
REFRESH-INTERVAL;VALUE=DURATION:PT1H
X-Robots-Tag:noindex
X-PUBLISHED-TTL:PT1H
BEGIN:VTIMEZONE
TZID:UTC
BEGIN:STANDARD
TZOFFSETFROM:+0000
TZOFFSETTO:+0000
TZNAME:UTC
DTSTART:20230101T000000
END:STANDARD
END:VTIMEZONE
BEGIN:VEVENT
DTSTART;TZID=UTC:20260413T190000
DTEND;TZID=UTC:20260413T200000
DTSTAMP:20260423T175609
CREATED:20260324T012317Z
LAST-MODIFIED:20260324T012317Z
UID:5396-1776106800-1776110400@wisconsindi.org
SUMMARY:You Qualified for Global Finals . . . Now What?
DESCRIPTION:Wisconsin Global Finalist Team Managers (TMs) and parents are invited to tune in to the call to learn the next steps to get teams registered for Global Finals 2026\, and more. \nAfter the Affiliate tournament\, the link will be sent to TMs for all teams who qualify for Global Finals. TMs should send the link to their team’s parents
URL:https://wisconsindi.org/event/you-qualified-for-global-finals-now-what/
LOCATION:ONLINE
CATEGORIES:DI Teams,Global Finals,Parent,Tournaments
ATTACH;FMTTYPE=image/png:https://wisconsindi.org/wp-content/uploads/2026/03/di-2025-26-team-numbers-8.png
END:VEVENT
BEGIN:VEVENT
DTSTART;TZID=UTC:20251025T100000
DTEND;TZID=UTC:20251025T140000
DTSTAMP:20260423T175609
CREATED:20250930T002703Z
LAST-MODIFIED:20250930T004617Z
UID:5159-1761386400-1761400800@wisconsindi.org
SUMMARY:Wisconsin Northwest Region/Minnesota Affiliate Season Kickoff
DESCRIPTION:Calling all Minnesota and Northwest Wisconsin Region team managers\, team members\, and people interested in learning more about Destination Imagination! \nStop by Willow River Elementary in Hudson\, WI on Saturday\, October 25th\, 2025\, between 10 am and 2 pm for an info session and season kickoff celebration! We will have the experts on hand to answer your questions and get you the information you need to start a team this season! \nQuestions? Call or text us at 414-207-4117 or email mikaela.becker@wisconsindi.org.
URL:https://wisconsindi.org/event/wisconsin-northwest-region-minnesota-affiliate-season-kickoff/
LOCATION:Willow River Elementary School 1118 4th St.\, Hudson WI\, 1118 4th St.\, Hudson\, wi
CATEGORIES:DI Teams,Parent
ATTACH;FMTTYPE=image/png:https://wisconsindi.org/wp-content/uploads/2025/09/NW-kickoff.png
END:VEVENT
BEGIN:VEVENT
DTSTART;TZID=UTC:20240923T183000
DTEND;TZID=UTC:20240923T193000
DTSTAMP:20260423T175609
CREATED:20240909T174343Z
LAST-MODIFIED:20240909T183709Z
UID:4071-1727116200-1727119800@wisconsindi.org
SUMMARY:Wisconsin Destination Imagination Information Session for Students\, Parents\, & Educators
DESCRIPTION:Calling all Creative Problem Solvers! \nYou are invited to an Information Session to learn how Wisconsin Destination Imagination helps students in grades K–12 practice the skills needed to thrive in school\, future careers\, and beyond. \nMonday\, September 23\, 2024\n6:30 PM:  Brief presentation\n6:45 – 7:30 PM:  Hands-on activities! \nMeadow View Elementary Cafeteria\n200 North Grand Ave.\nSun Prairie\, WI \nThis free event is open to anyone interested in learning about Destination Imagination (DI). \nDownload the event flyer here. \nQuestions? Please contact: Anne Coulling Wisconsin Destination Imagination anne.coulling@wisconsindi.org. \n 
URL:https://wisconsindi.org/event/wisconsin-destination-imagination-information-session-for-students-parents-educators/
LOCATION:Meadow View Elementary\, 200 North Grand Ave.\, Sun Prairie\, Wisconsin
CATEGORIES:DI Teams,Educator,Parent
ATTACH;FMTTYPE=image/png:https://wisconsindi.org/wp-content/uploads/2024/09/wisc-DI-sept-2024-sun-prairie-info-session-3.png
END:VEVENT
END:VCALENDAR