BEGIN:VCALENDAR
VERSION:2.0
PRODID:-//Wisconsin Destination Imagination - ECPv6.15.20//NONSGML v1.0//EN
CALSCALE:GREGORIAN
METHOD:PUBLISH
X-ORIGINAL-URL:https://wisconsindi.org
X-WR-CALDESC:Events for Wisconsin Destination Imagination
REFRESH-INTERVAL;VALUE=DURATION:PT1H
X-Robots-Tag:noindex
X-PUBLISHED-TTL:PT1H
BEGIN:VTIMEZONE
TZID:America/Chicago
BEGIN:DAYLIGHT
TZOFFSETFROM:-0600
TZOFFSETTO:-0500
TZNAME:CDT
DTSTART:20230312T080000
END:DAYLIGHT
BEGIN:STANDARD
TZOFFSETFROM:-0500
TZOFFSETTO:-0600
TZNAME:CST
DTSTART:20231105T070000
END:STANDARD
BEGIN:DAYLIGHT
TZOFFSETFROM:-0600
TZOFFSETTO:-0500
TZNAME:CDT
DTSTART:20240310T080000
END:DAYLIGHT
BEGIN:STANDARD
TZOFFSETFROM:-0500
TZOFFSETTO:-0600
TZNAME:CST
DTSTART:20241103T070000
END:STANDARD
BEGIN:DAYLIGHT
TZOFFSETFROM:-0600
TZOFFSETTO:-0500
TZNAME:CDT
DTSTART:20250309T080000
END:DAYLIGHT
BEGIN:STANDARD
TZOFFSETFROM:-0500
TZOFFSETTO:-0600
TZNAME:CST
DTSTART:20251102T070000
END:STANDARD
END:VTIMEZONE
BEGIN:VEVENT
DTSTART;TZID=America/Chicago:20240127T100000
DTEND;TZID=America/Chicago:20240127T120000
DTSTAMP:20260425T204538
CREATED:20230930T003653Z
LAST-MODIFIED:20240107T000635Z
UID:3263-1706349600-1706356800@wisconsindi.org
SUMMARY:Wisconsin DI Challenge Master Training
DESCRIPTION:January 27\, 2024\, 10am – 12pm CT. \nThis virtual session is required for all Wisconsin Challenge Masters \nThe first hour will be Affiliate-wide expectations\, scoring program updates\, etc. and the second hour will be for Challenge-Specific breakouts. \nThe session link will be sent closer to the date. \nIf you have any questions please contact Elliott Kaas\, WIDI Board of Directors ACM Representative\, and WIDI Instant Challenge ACM at elliott.kaas@wisconsindi.org.
URL:https://wisconsindi.org/event/wisconsin-challenge-master-training/
CATEGORIES:ACM/RCM Training,Challenge Master,Tournaments
ATTACH;FMTTYPE=image/png:https://wisconsindi.org/wp-content/uploads/2023/09/CM-training-2024-event-cover.png
END:VEVENT
END:VCALENDAR