BEGIN:VCALENDAR
VERSION:2.0
PRODID:-//Wisconsin Destination Imagination - ECPv6.15.20//NONSGML v1.0//EN
CALSCALE:GREGORIAN
METHOD:PUBLISH
X-WR-CALNAME:Wisconsin Destination Imagination
X-ORIGINAL-URL:https://wisconsindi.org
X-WR-CALDESC:Events for Wisconsin Destination Imagination
REFRESH-INTERVAL;VALUE=DURATION:PT1H
X-Robots-Tag:noindex
X-PUBLISHED-TTL:PT1H
BEGIN:VTIMEZONE
TZID:UTC
BEGIN:STANDARD
TZOFFSETFROM:+0000
TZOFFSETTO:+0000
TZNAME:UTC
DTSTART:20240101T000000
END:STANDARD
END:VTIMEZONE
BEGIN:VEVENT
DTSTART;TZID=UTC:20251208T190000
DTEND;TZID=UTC:20251208T200000
DTSTAMP:20260423T224649
CREATED:20250821T182120Z
LAST-MODIFIED:20250821T182120Z
UID:4966-1765220400-1765224000@wisconsindi.org
SUMMARY:Idea Wrangling 101 Webinar: Guiding Teams from  Chaos to Clarity
DESCRIPTION:Idea Wrangling 101 Webinar: Guiding Teams from Chaos to Clarity – \nMonday\, December 8\, 2025\, 7 PM\n\nHow can you help your team think outside of the box? How do you encourage the creative process without interference?\n\nThis training is for new and experienced Team Managers who are interested in learning more about the tools available to guide their team through idea generation\, narrowing their focus\, and creating a successful challenge solution. \n\nRegister: https://tinyurl.com/WIDI-IW1 \nRegistrants will receive the webinar link.
URL:https://wisconsindi.org/event/idea-wrangling-101-webinar-guiding-teams-from-chaos-to-clarity/
LOCATION:ONLINE
CATEGORIES:Team Manager Training
ATTACH;FMTTYPE=image/png:https://wisconsindi.org/wp-content/uploads/2025/08/WIDI-2025-team-manager-training-ideas-101.png
END:VEVENT
BEGIN:VEVENT
DTSTART;TZID=UTC:20260107T190000
DTEND;TZID=UTC:20260107T200000
DTSTAMP:20260423T224649
CREATED:20250823T125701Z
LAST-MODIFIED:20250823T130108Z
UID:4972-1767812400-1767816000@wisconsindi.org
SUMMARY:Team Manager Crash Course Training Webinar
DESCRIPTION:Team Manager Crash Course Training Webinar – January 7\, 2026\,  7 PM \n  \n\n\nAre you a new Team Manager who wants to know more about getting started? Have you been a new team manager in the past year or two? \nThis crash course webinar will expand on the training materials offered by Destination Imagination and help prepare you to navigate your team through the DI experience. \n\n\n\nYou’ll walk away with an overview of all Resources available to you as a Team Manager\, how to use them effectively\, and some practical\, hands-on building resources that you can take back to your team. \nThis training will cover similar content to the New Team Manager Training held in November 2025. \n\n\nRegister https://tinyurl.com/TMCC-WIDI \nRegistrants will be sent the meeting link.
URL:https://wisconsindi.org/event/team-manager-crash-course-training-webinar/
LOCATION:ONLINE
CATEGORIES:DI Teams,Team Manager Training
ATTACH;FMTTYPE=image/png:https://wisconsindi.org/wp-content/uploads/2025/08/WIDI-2026-team-manager-crash-course.png
END:VEVENT
BEGIN:VEVENT
DTSTART;TZID=UTC:20260111T190000
DTEND;TZID=UTC:20260111T200000
DTSTAMP:20260423T224649
CREATED:20250910T005016Z
LAST-MODIFIED:20250910T005016Z
UID:5133-1768158000-1768161600@wisconsindi.org
SUMMARY:Getting Tournament Ready: Prep to Presentation
DESCRIPTION:Getting Tournament Ready: Prep to Presentation – January 11\, 2026\, 7 PM\nIn this training\, you will learn how to break down a Challenge\, effectively complete tournament data forms\, understand Scoring\, and prepare your team for Tournament day. This training is open to both experienced and new Team Managers.\n\nRegister: https://tinyurl.com/widi-gtr
URL:https://wisconsindi.org/event/getting-tournament-ready-prep-to-presentation/
LOCATION:Muskego High School\, W183S8750 Racine Ave.\, Muskego\, WI\, 53150\, United States
CATEGORIES:DI Teams,Team Manager Training
END:VEVENT
BEGIN:VEVENT
DTSTART;TZID=UTC:20260117T090000
DTEND;TZID=UTC:20260117T130000
DTSTAMP:20260423T224649
CREATED:20251210T142346Z
LAST-MODIFIED:20251210T142655Z
UID:5244-1768640400-1768654800@wisconsindi.org
SUMMARY:South Central Regional Instant Challenge (IC) Workshop & Tournament Round Table
DESCRIPTION:South Central Instant Challenge Workshop & Round Table\nJanuary 17\, 2026\, beginning at 9 AM. \nParkview Junior/ Senior High School 408 West Beloit Street\, Orfordville\, WI 53576 \nRegister here by January 3\, 2026: https://forms.gle/vTGu7yMd39khFnDZ7 \nSchedule:\nThe Instant Challenge Workshop will consist of 6 unique challenges (2 of each challenge “type”) for teams to complete. We will meet in the Commons at 9 am. We will end the IC portion of the day at approximately 12 pm. \nRound Table: We will be starting at approximately 12 pm\, when the IC workshop is done. Teams will get the chance to tour the challenge sites and ask questions. \nContact Ashley Nelson at ashley.nelson@wisconsindi.org or 608-373-4052 with questions or if you would like to help run an Instant Challenge! \n*All teams MUST have a Team Manager or other adult assigned to them to attend. Each team attending must fill out this form separately. *
URL:https://wisconsindi.org/event/south-central-regional-instant-challenge-ic-workshop-tournament-round-table/
LOCATION:Parkview High School\, 408 West Beloit Street\, Orfordville\, United States
CATEGORIES:DI Teams,Instant Challenge
ATTACH;FMTTYPE=image/png:https://wisconsindi.org/wp-content/uploads/2025/12/widi-tournament-southeast-7.png
ORGANIZER;CN="South Central Region":MAILTO:ashley.nelson@wisconsindi.org
END:VEVENT
BEGIN:VEVENT
DTSTART;TZID=UTC:20260128T190000
DTEND;TZID=UTC:20260128T200000
DTSTAMP:20260423T224649
CREATED:20250910T005204Z
LAST-MODIFIED:20260123T192448Z
UID:5135-1769626800-1769630400@wisconsindi.org
SUMMARY:Tournament Round Table
DESCRIPTION:Tournament Round Table – January 28\, 2026\, 7 PM\nHear from Challenge Masters about what you can expect on tournament day. The link will be sent to all registered Team Managers and Coordinators.\n\nNo pre-registration needed.  The link will be sent to all TMs.
URL:https://wisconsindi.org/event/tournament-round-table/
LOCATION:ONLINE
CATEGORIES:ACM/RCM Training,Team Manager Training
ATTACH;FMTTYPE=image/png:https://wisconsindi.org/wp-content/uploads/2025/09/di-2025-26-team-numbers-7.png
END:VEVENT
BEGIN:VEVENT
DTSTART;TZID=UTC:20260201T130000
DTEND;TZID=UTC:20260201T152000
DTSTAMP:20260423T224649
CREATED:20251210T140147Z
LAST-MODIFIED:20251210T144958Z
UID:5237-1769950800-1769959200@wisconsindi.org
SUMMARY:Southeast Regional Instant Challenge (IC) Workshop
DESCRIPTION:The SE Region is sponsoring a free IC workshop on Sunday\, Feb. 1\, 2025\, from 1 to 3:20 pm at Longfellow Middle School\, 7600 W. North Ave.\, Wauwatosa. \nTeams will have the opportunity to complete 4 different Instant Challenges and receive feedback from DI volunteers. \n\nThis is for competitive teams only–no Rising Stars/Early Learners. The workshop is free\, but pre-registration is required. \n\nTeams MUST be accompanied by a Team Manager or other trusted adult. It is OK to bring only part of your team\, but you should have at least two team members to participate.\n\n\nInterested teams can sign up here: https://forms.gle/vyWW5DMrUNojb6u17
URL:https://wisconsindi.org/event/southeast-regional-instant-challenge-ic-workshop/
LOCATION:Longfellow Middle School\, 7600 W. North Ave\, Wauwatosa\, WI
CATEGORIES:DI Teams,Instant Challenge
ATTACH;FMTTYPE=image/png:https://wisconsindi.org/wp-content/uploads/2025/12/widi-tournament-southeast-5.png
ORGANIZER;CN="Southeast Region":MAILTO:anne.coulling@wisconsindi.org
END:VEVENT
BEGIN:VEVENT
DTSTART;TZID=UTC:20260228T080000
DTEND;TZID=UTC:20260228T170000
DTSTAMP:20260423T224649
CREATED:20250629T141834Z
LAST-MODIFIED:20250708T224220Z
UID:4747-1772265600-1772298000@wisconsindi.org
SUMMARY:Wisconsin Destination Imagination 2026 Northeast Regional Tournament
DESCRIPTION:Student-led teams from all over Northeast Wisconsin will present their solutions to the 2025 -26 Destination Imagination® (DI) Challenges at the Northeast Regional (NERDI) Tournament at Algoma High School on February 28\, 2026! \n2025 – 26 teams are forming soon! Visit https://www.destinationimagination.org to purchase your team number. \nIf you have any questions about how to get involved\, what DI is\, or how to start a program\, please contact us today. Click here to find your region and contact your Regional Directors (RD) for more information. \nTeams at the Elementary Level (EL)\, Middle Level (ML)\, and Secondary Level (SL) will compete in the level of their chosen Challenge (Technical\, Scientific\, Fine Arts\, Improv\, Engineering\, and Service Learning) as well as an Instant Challenge. Early Learning teams (Rising Stars!) will present their Challenge solutions to Appraisers for positive feedback and celebrate their accomplishments for the season. \nStay tuned for tournament registration information.
URL:https://wisconsindi.org/event/wisconsin-destination-imagination-2026-northeast-regional-tournament/
LOCATION:Algoma High School\, 1715 Division St.\, Algoma\, WI\, 54201\, United States
CATEGORIES:DI Teams,Tournaments
ATTACH;FMTTYPE=image/png:https://wisconsindi.org/wp-content/uploads/2025/06/widi-tournament-NERDI.png
END:VEVENT
BEGIN:VEVENT
DTSTART;TZID=UTC:20260307T080000
DTEND;TZID=UTC:20260307T170000
DTSTAMP:20260423T224649
CREATED:20250629T143717Z
LAST-MODIFIED:20250708T224059Z
UID:4750-1772870400-1772902800@wisconsindi.org
SUMMARY:Wisconsin Destination Imagination 2026 South Central Regional Tournament
DESCRIPTION:Student-led teams from all over Northeast Wisconsin will present their solutions to the 2025 – 26 Destination Imagination® (DI) Challenges at the South Central Regional Tournament at Parkview High School on March 7\, 2026! \n2025 – 26 teams are forming soon! Visit https://www.destinationimagination.org to purchase your team number. \nIf you have any questions about how to get involved\, what DI is\, or how to start a program\, please contact us today. Click here to find your region and contact your Regional Directors (RD) for more information. \nTeams at the Elementary Level (EL)\, Middle Level (ML)\, and Secondary Level (SL) will compete in the level of their chosen Challenge (Technical\, Scientific\, Fine Arts\, Improv\, Engineering\, and Service Learning) as well as an Instant Challenge. Early Learning teams (Rising Stars!) will present their Challenge solutions to Appraisers for positive feedback and celebrate their accomplishments for the season. \nStay tuned for tournament registration information.
URL:https://wisconsindi.org/event/wisconsin-destination-imagination-2026-south-central-regional-tournament/
LOCATION:Parkview High School\, 408 West Beloit Street\, Orfordville\, United States
CATEGORIES:DI Teams,Tournaments
ATTACH;FMTTYPE=image/png:https://wisconsindi.org/wp-content/uploads/2025/06/widi-tournament-south-central-3.png
END:VEVENT
BEGIN:VEVENT
DTSTART;TZID=UTC:20260411T080000
DTEND;TZID=UTC:20260411T170000
DTSTAMP:20260423T224649
CREATED:20250629T144811Z
LAST-MODIFIED:20250629T144900Z
UID:4754-1775894400-1775926800@wisconsindi.org
SUMMARY:Wisconsin Destination Imagination 2026 Affiliate Tournament
DESCRIPTION:Qualifying teams from all over Wisconsin will present their solutions to the 2025-26 Destination Imagination® (DI) Challenges at the Wisconsin Affiliate Tournament at Sun Prairie West High School in Sun Prairie\, WI on April 11\, 2026! \nStudent-led teams will qualify for the Affiliate Tournament by placing in the top spots at their respective Regional Tournament. Visit the WIDI website to find your region https://wisconsindi.org/widi-regions/ and contact your Regional Directors (RD) for more information. \nTeams who place in the top spots at the Affiliate tournament will earn a chance to advance to Global Finals at the end of May. \n2025 – 26 teams are forming now! Visit https://www.destinationimagination.org to purchase your team number. \nIf you have any questions on how to get involved\, what DI is\, or how to start a program in your area\, contact us today! \nTeams at the Elementary Level (EL)\, Middle Level (ML) and Secondary Level (SL) will compete in the level of their chosen Challenge (Technical\, Scientific\, Fine Arts\, Improv\, Engineering and Service Learning) as well as an Instant Challenge. Early Learning teams (Rising Stars!) will present their Challenge solutions to Appraisers for positive feedback and celebrate their accomplishments for the season. \nStay tuned for tournament registration information.
URL:https://wisconsindi.org/event/wisconsin-destination-imagination-2026-affiliate-tournament/
LOCATION:Sun Prairie West High School\, 2850 Ironwood Dr\, Sun Prairie\, WI\, 53590
CATEGORIES:DI Teams,Tournaments
ATTACH;FMTTYPE=image/png:https://wisconsindi.org/wp-content/uploads/2025/06/widi-tournament-2026-affiliate.png
END:VEVENT
BEGIN:VEVENT
DTSTART;TZID=UTC:20260413T190000
DTEND;TZID=UTC:20260413T200000
DTSTAMP:20260423T224649
CREATED:20260324T012317Z
LAST-MODIFIED:20260324T012317Z
UID:5396-1776106800-1776110400@wisconsindi.org
SUMMARY:You Qualified for Global Finals . . . Now What?
DESCRIPTION:Wisconsin Global Finalist Team Managers (TMs) and parents are invited to tune in to the call to learn the next steps to get teams registered for Global Finals 2026\, and more. \nAfter the Affiliate tournament\, the link will be sent to TMs for all teams who qualify for Global Finals. TMs should send the link to their team’s parents
URL:https://wisconsindi.org/event/you-qualified-for-global-finals-now-what/
LOCATION:ONLINE
CATEGORIES:DI Teams,Global Finals,Parent,Tournaments
ATTACH;FMTTYPE=image/png:https://wisconsindi.org/wp-content/uploads/2026/03/di-2025-26-team-numbers-8.png
END:VEVENT
BEGIN:VEVENT
DTSTART;TZID=UTC:20260425T100000
DTEND;TZID=UTC:20260425T110000
DTSTAMP:20260423T224649
CREATED:20260423T130022Z
LAST-MODIFIED:20260423T130022Z
UID:5522-1777111200-1777114800@wisconsindi.org
SUMMARY:Global Finals Team Manager Information Call
DESCRIPTION:Team Wisconsin Team Managers (TMs) will receive the link to the call.
URL:https://wisconsindi.org/event/global-finals-team-manager-information-call/
LOCATION:ONLINE
CATEGORIES:Global Finals,Team Manager Training
ATTACH;FMTTYPE=image/png:https://wisconsindi.org/wp-content/uploads/2026/04/di-2025-26-team-numbers-8.png
END:VEVENT
END:VCALENDAR