BEGIN:VCALENDAR
VERSION:2.0
PRODID:-//Wisconsin Destination Imagination - ECPv6.15.20//NONSGML v1.0//EN
CALSCALE:GREGORIAN
METHOD:PUBLISH
X-WR-CALNAME:Wisconsin Destination Imagination
X-ORIGINAL-URL:https://wisconsindi.org
X-WR-CALDESC:Events for Wisconsin Destination Imagination
REFRESH-INTERVAL;VALUE=DURATION:PT1H
X-Robots-Tag:noindex
X-PUBLISHED-TTL:PT1H
BEGIN:VTIMEZONE
TZID:UTC
BEGIN:STANDARD
TZOFFSETFROM:+0000
TZOFFSETTO:+0000
TZNAME:UTC
DTSTART:20210101T000000
END:STANDARD
END:VTIMEZONE
BEGIN:VEVENT
DTSTART;TZID=UTC:20230225T080000
DTEND;TZID=UTC:20230225T170000
DTSTAMP:20260423T224301
CREATED:20221121T002451Z
LAST-MODIFIED:20230211T215624Z
UID:2481-1677312000-1677344400@wisconsindi.org
SUMMARY:WIDI Northeast Sectional Tournament
DESCRIPTION:Teams in the BayLake\, Green Bay DI\, and Northeast Regions will compete in the Northeast Sectional tournament. \nDate: February 25\, 2023 \nLocation:\nShawano Community Middle School\n1050 S Union St. Shawano\, WI 54166 \nNortheast Sectional Tournament Information \nComplete Program\, Schedule & Map\nMap Alone \nIndividual Challenge Schedules\nEarly Learning (Rising Stars!)\nService Learning & Improv\nFine Arts Elementary Level\nFine Arts Middle & Secondary Levels\nScientific\nEngineering\nTechnical \nRegister as an Appraiser\nDIHQ Tournament Guide For Teams 
URL:https://wisconsindi.org/event/widi-northeast-sectional-tournament/
LOCATION:Shawano Community Middle School\, 1050 S Union St.\, Shawano\, WI\, 54166\, United States
CATEGORIES:Tournaments
ATTACH;FMTTYPE=image/png:https://wisconsindi.org/wp-content/uploads/2022/10/2023-Wisconsin-DI-northeast-tournament.png
END:VEVENT
BEGIN:VEVENT
DTSTART;TZID=UTC:20230218T100000
DTEND;TZID=UTC:20230218T110000
DTSTAMP:20260423T224301
CREATED:20221001T175344Z
LAST-MODIFIED:20221029T141511Z
UID:2320-1676714400-1676718000@wisconsindi.org
SUMMARY:Wisconsin DI Virtual Team Manager Coffee Hour: AHH! Will they ever finish?
DESCRIPTION:Join Team Managers from around Wisconsin for a one-hour\, once-per-month candid conversation about being a DI Team Manager. \nHear from experienced TM’s about tips and tricks to help your team be successful! *Coffee is optional!* \nDates and Topics\nOctober 15th: WIDI Welcome / Forming Teams\nNovember 19th: Teamwork & Instant Challenge\nDecember 17th: Registering Your Team\nJanuary 21st: Preparing for your Tournament (with Competitive and Early Learning Breakout Sessions)\nFebruary 18th: AHH! Will they ever finish?\nDate & Time Change: March 19th: All Things Affiliate Tournament/1 – 2PM\nApril 15th: Global Finals 101 \nTime: 10 – 11AMCT via Google Meet.  Link will be sent to all registrants.  You only need to register once per season. \nRegister here to get the meeting link* \nQuestions? Email alumni@wisconsindi.org \n*If you registered for the 2021-22 Team Manager Coffee Hours\, you must re-register for this season. Thank you. \nWe look forward to chatting with you! \nBrought to you by the Wisconsin Destination Imagination Team Manager Ambassador Program \n 
URL:https://wisconsindi.org/event/wisconsin-di-virtual-team-manager-coffee-hour-will-they-ever-finish/
CATEGORIES:Team Manager Training
ATTACH;FMTTYPE=image/png:https://wisconsindi.org/wp-content/uploads/2022/09/FB-Event-Photo-Coffee-Hour.png
END:VEVENT
BEGIN:VEVENT
DTSTART;TZID=UTC:20230205T120000
DTEND;TZID=UTC:20230205T140000
DTSTAMP:20260423T224301
CREATED:20230127T143122Z
LAST-MODIFIED:20230127T143122Z
UID:2628-1675598400-1675605600@wisconsindi.org
SUMMARY:Instant Challenge Workshop
DESCRIPTION:Wisconsin Destination Imagination (WIDI) is hosting a free Instant Challenge (IC) workshop for competitive teams on Sunday\, February 5\, 2023 from noon to 2 pm at the Milwaukee School of Engineering Campus Center\, 1025 N. Broadway in downtown Milwaukee\, WI. \nTeams will have the chance to complete five different Instant Challenges. Remember\, IC counts for 25% of your total score at tournaments! \nSpots are still available\, but pre-registration is required. Your entire team does not have to attend–even if one or more members are missing\, the rest of the team can still benefit from the workshop–but each team MUST be accompanied by a team manager or other trusted adult. \nThis workshop is for competitive teams only and is not appropriate for Rising Stars. You can sign up here: https://www.eventbrite.com/e/instant-challenge-workshop-tickets-477621999257.
URL:https://wisconsindi.org/event/instant-challenge-workshop/
LOCATION:Milwaukee School of Engineering Campus Center\, 1025 N. Broadway\, Milwaukee\, WI\, 53202\, United States
CATEGORIES:DI Teams,Instant Challenge
ATTACH;FMTTYPE=image/png:https://wisconsindi.org/wp-content/uploads/2023/01/mke-ic-workshop-2023.png
ORGANIZER;CN="Milwaukee and Kettle Moraine Regional Destination Imagination":MAILTO:anne.coulling@wisconsindi.org
END:VEVENT
BEGIN:VEVENT
DTSTART;TZID=UTC:20230128T130000
DTEND;TZID=UTC:20230128T140000
DTSTAMP:20260423T224301
CREATED:20221221T232310Z
LAST-MODIFIED:20230109T201408Z
UID:2525-1674910800-1674914400@wisconsindi.org
SUMMARY:Northeast Sectional Instant Challenge (IC) Workshop
DESCRIPTION:The IC Workshop originally scheduled for January 14\, 2023 has been moved to Saturday January 28\, 2023 from 1 – approximately 2PM (end time to be determined based on number of teams that register). \nLocation: STEM Innovation Center UW Green Bay Campus \nOpen to all BayLake\, Green Bay Area DI\, and Northeast teams. Come and hone your IC skills and learn some new ones. Even if all your team members cannot be there\, partial teams are welcome! \nSign Up Deadline January 4\, 2023. Follow this link and get signed up today! https://forms.gle/HZva581LirXkZdoL8
URL:https://wisconsindi.org/event/northeast-sectional-instant-challenge-ic-workshop/
LOCATION:UWGB STEM Innovation Center\, 2019 Technology Way\, Green Bay\, 54311
CATEGORIES:DI Teams
ATTACH;FMTTYPE=image/png:https://wisconsindi.org/wp-content/uploads/2022/12/2023-northeast-sectional-ic-workshop.png
END:VEVENT
BEGIN:VEVENT
DTSTART;TZID=UTC:20230128T100000
DTEND;TZID=UTC:20230128T120000
DTSTAMP:20260423T224301
CREATED:20221002T011313Z
LAST-MODIFIED:20221221T210227Z
UID:2382-1674900000-1674907200@wisconsindi.org
SUMMARY:WIDI Affiliate Challenge Master/Regional Challenge Master Training
DESCRIPTION:WIDI Affiliate Challenge Master/Regional Challenge Master training is scheduled for Saturday\, January 28\, 2023.  The training will be held virtually and details along with the meeting link will be sent as the date gets closer. \nThis is for WIDI ACMs\, RCMs\, and RDs. \nAfter the opening session\, ACMs will breakout into each respective Challenge to train the RCMs. \nRCMs will receive information from the ACM of their Challenge regarding specifics and disbursement of any training materials you may need ahead of time. \nMore information will be forthcoming\, but we want to be sure everyone gets the date on their calendars. \nIf you have any questions in the meanwhile\, please contact Jean Fugate\, Affiliate Tournament Director at tournamentinfo@wisconsindi.org.
URL:https://wisconsindi.org/event/widi-affiliate-challenge-master-regional-challenge-master-training/
CATEGORIES:ACM/RCM Training,Tournaments
ATTACH;FMTTYPE=image/png:https://wisconsindi.org/wp-content/uploads/2022/10/Copy-of-Copy-of-2022-23-WIDI-Yard-Sign-1200-×-628-px.png
END:VEVENT
BEGIN:VEVENT
DTSTART;TZID=UTC:20230121T100000
DTEND;TZID=UTC:20230121T110000
DTSTAMP:20260423T224301
CREATED:20221001T175217Z
LAST-MODIFIED:20221029T141419Z
UID:2318-1674295200-1674298800@wisconsindi.org
SUMMARY:Wisconsin DI Virtual Team Manager Coffee Hour: Preparing for your Tournament
DESCRIPTION:Join Team Managers from around Wisconsin for a one-hour\, once-per-month candid conversation about being a DI Team Manager. \nHear from experienced TM’s about tips and tricks to help your team be successful! *Coffee is optional!* \nDates and Topics\nOctober 15th: WIDI Welcome / Forming Teams\nNovember 19th: Teamwork & Instant Challenge\nDecember 17th: Registering Your Team\nJanuary 21st: Preparing for your Tournament (with Competitive and Early Learning Breakout Sessions)\nFebruary 18th: AHH! Will they ever finish?\nDate & Time Change: March 19th: All Things Affiliate Tournament/1 – 2PM\nApril 15th: Global Finals 101 \nTime: 10 – 11AMCT via Google Meet.  Link will be sent to all registrants.  You only need to register once per season. \nRegister here to get the meeting link* \nQuestions? Email alumni@wisconsindi.org \n*If you registered for the 2021-22 Team Manager Coffee Hours\, you must re-register for this season. Thank you. \nWe look forward to chatting with you! \nBrought to you by the Wisconsin Destination Imagination Team Manager Ambassador Program \n 
URL:https://wisconsindi.org/event/wisconsin-di-virtual-team-manager-coffee-hour-preparing-for-your-tournament/
CATEGORIES:Team Manager Training
ATTACH;FMTTYPE=image/png:https://wisconsindi.org/wp-content/uploads/2022/09/FB-Event-Photo-Coffee-Hour.png
END:VEVENT
BEGIN:VEVENT
DTSTART;TZID=UTC:20230111T190000
DTEND;TZID=UTC:20230111T200000
DTSTAMP:20260423T224301
CREATED:20221002T014421Z
LAST-MODIFIED:20221002T014546Z
UID:2394-1673463600-1673467200@wisconsindi.org
SUMMARY:WIDI Board of Directors Meeting
DESCRIPTION:The WIDI Board of Directors meets monthly on the second Wednesday from 7 – 8PM via Google Meet.
URL:https://wisconsindi.org/event/widi-jan-2023-bod/
CATEGORIES:Board of Directors,WIDI Staff
ATTACH;FMTTYPE=image/png:https://wisconsindi.org/wp-content/uploads/2022/10/Copy-of-Copy-of-2022-23-WIDI-Yard-Sign-1200-×-628-px-2.png
END:VEVENT
BEGIN:VEVENT
DTSTART;TZID=UTC:20221217T100000
DTEND;TZID=UTC:20221217T110000
DTSTAMP:20260423T224301
CREATED:20221001T174738Z
LAST-MODIFIED:20221029T141340Z
UID:2311-1671271200-1671274800@wisconsindi.org
SUMMARY:Wisconsin DI Virtual Team Manager Coffee Hour: Registering Your Team For Tournaments
DESCRIPTION:Join Team Managers from around Wisconsin for a one-hour\, once-per-month candid conversation about being a DI Team Manager. \nHear from experienced TM’s about tips and tricks to help your team be successful! *Coffee is optional!* \nDates and Topics\nOctober 15th: WIDI Welcome / Forming Teams\nNovember 19th: Teamwork & Instant Challenge\nDecember 17th: Registering Your Team\nJanuary 21st: Preparing for your Tournament (with Competitive and Early Learning Breakout Sessions)\nFebruary 18th: AHH! Will they ever finish?\nDate & Time Change: March 19th: All Things Affiliate Tournament/1 – 2PM\nApril 15th: Global Finals 101 \nTime: 10 – 11AMCT via Google Meet.  Link will be sent to all registrants.  You only need to register once per season. \nRegister here to get the meeting link* \nQuestions? Email alumni@wisconsindi.org \n*If you registered for the 2021-22 Team Manager Coffee Hours\, you must re-register for this season. Thank you. \nWe look forward to chatting with you! \nBrought to you by the Wisconsin Destination Imagination Team Manager Ambassador Program \n 
URL:https://wisconsindi.org/event/2022-wisconsin-di-virtual-team-manager-coffee-hour-registering-your-team-for-tournaments/
CATEGORIES:Team Manager Training
ATTACH;FMTTYPE=image/png:https://wisconsindi.org/wp-content/uploads/2022/09/FB-Event-Photo-Coffee-Hour.png
END:VEVENT
BEGIN:VEVENT
DTSTART;TZID=UTC:20221214T190000
DTEND;TZID=UTC:20221214T200000
DTSTAMP:20260423T224301
CREATED:20221002T014244Z
LAST-MODIFIED:20221002T014337Z
UID:2392-1671044400-1671048000@wisconsindi.org
SUMMARY:WIDI Board of Directors Meeting
DESCRIPTION:The WIDI Board of Directors meets monthly on the second Wednesday from 7 – 8PM via Google Meet.
URL:https://wisconsindi.org/event/widi-dec-bod/
CATEGORIES:Board of Directors,WIDI Staff
ATTACH;FMTTYPE=image/png:https://wisconsindi.org/wp-content/uploads/2022/10/Copy-of-Copy-of-2022-23-WIDI-Yard-Sign-1200-×-628-px-2.png
END:VEVENT
BEGIN:VEVENT
DTSTART;TZID=UTC:20221130T190000
DTEND;TZID=UTC:20221130T210000
DTSTAMP:20260423T224301
CREATED:20221001T183012Z
LAST-MODIFIED:20221128T134113Z
UID:2332-1669834800-1669842000@wisconsindi.org
SUMMARY:Think Like An Appraiser Team Manager Training
DESCRIPTION:In this training you will learn how to break down a\nChallenge\, effectively complete tournament data\nforms\, understand Scoring\, and prepare your team for\nTournament by understanding what Appraisers are\nlooking for as they apPRAISE your team on Tournament\nday! \nThis training is open to both experienced and new\nTeam Managers. \nNovember 30\, 2022\, 7- 9PM CT via Zoom. Zoom link will be sent to registrants. \n\nFind more information and register here. \n\nQuestions? Email alumni@wisconsindi.org.\n\n\n\nMeet your trainer:\nCrissy Buhr is excited to be back after her International Challenge Master (ICM) break to be working as a Trainer with Wisconsin Destination Imagination’s (WIDI) Team Managers and Volunteers once again for the 2022-2023 season!   \nAs a DI alumna of 9 years\, she participated on teams that placed  everywhere from last place at the Regional Tournament to first place at Global Finals and definitely understands that being part of a DI team is a true journey! \n\nFor the past 19 years she has volunteered at the Regional\, Affiliate and International levels as an Appraiser\, Regional and Affiliate Challenge Master\, and just finished her second rotation as an International Challenge Master for the Engineering Challenge. Crissy has worked with DI Inc. on curriculum development and creativity camp facilitation in the US and Asia\, served as Regional Director for the Milwaukee Region for the 2009-2010 season\, and served on the WIDI Board of Directors from 2008-2013. \n\n\nCrissy has been involved in Alumni engagement and recruitment and chaired the International DI Alumni Board during the 2010-2011 program year. Crissy’s true passion lies in Training and she spent 7 years as the Affiliate Training Director for WIDI from 2010-2017 where she was able to share her expertise with Team Managers and Appraisers throughout Wisconsin in a series of in person and online training sessions. Crissy’s virtual trainings have been used around the world to train Team Managers and Appraisers to ensure a fair\, consistent and positive tournament experience. In her non DI-world Crissy works in Project and Product Management for a Healthtech Software company in Madison\, Wi.
URL:https://wisconsindi.org/event/think-like-an-appraiser/
LOCATION:Zoom
ATTACH;FMTTYPE=image/png:https://wisconsindi.org/wp-content/uploads/2022/10/WIDI-Think-like-an-Appraiser-Team-Manager-Training-Virtual.png
END:VEVENT
BEGIN:VEVENT
DTSTART;TZID=UTC:20221119T100000
DTEND;TZID=UTC:20221119T110000
DTSTAMP:20260423T224301
CREATED:20221001T174557Z
LAST-MODIFIED:20221029T141245Z
UID:2308-1668852000-1668855600@wisconsindi.org
SUMMARY:Wisconsin DI Virtual Team Manager Coffee Hour: Teamwork & Instant Challenge
DESCRIPTION:Join Team Managers from around Wisconsin for a one-hour\, once-per-month candid conversation about being a DI Team Manager. \nHear from experienced TM’s about tips and tricks to help your team be successful! *Coffee is optional!* \nDates and Topics\nOctober 15th: WIDI Welcome / Forming Teams\nNovember 19th: Teamwork & Instant Challenge\nDecember 17th: Registering Your Team\nJanuary 21st: Preparing for your Tournament (with\nCompetitive and Early Learning Breakout Sessions)\nFebruary 18th: AHH! Will they ever finish?\nDate & Time Change: March 19th: All Things Affiliate Tournament/1 – 2PM\nApril 15th: Global Finals 101 \nTime: 10 – 11AMCT via Google Meet.  Link will be sent to all registrants.  You only need to register once per season. \nRegister here to get the meeting link* \nQuestions? Email alumni@wisconsindi.org \n*If you registered for the 2021-22 Team Manager Coffee Hours\, you must re-register for this season. Thank you. \nWe look forward to chatting with you! \nBrought to you by the Wisconsin Destination Imagination Team Manager Ambassador Program \n 
URL:https://wisconsindi.org/event/2022-wisconsin-di-virtual-team-manager-coffee-hour-teamwork-instant-challenge/
CATEGORIES:Team Manager Training
ATTACH;FMTTYPE=image/png:https://wisconsindi.org/wp-content/uploads/2022/09/FB-Event-Photo-Coffee-Hour.png
END:VEVENT
BEGIN:VEVENT
DTSTART;TZID=UTC:20221116T190000
DTEND;TZID=UTC:20221116T210000
DTSTAMP:20260423T224301
CREATED:20221001T172524Z
LAST-MODIFIED:20221026T220328Z
UID:2294-1668625200-1668632400@wisconsindi.org
SUMMARY:New Team Manager Crash Course Training
DESCRIPTION:Are you a new Team Manager that wants to know more about getting started?\n\nHave you been a new Team Manager in the past year or two? \n\n\nThis crash course webinar will expand on the training materials offered by Destination Imagination® (DI) and help prepare you to navigate your team through the DI experience. \n\n\nYou’ll walk away with an overview of all Resources available to you as a Team Manager\, how best to utilize them\, and some practical hands on team builders and resources that you can take back to your team! \n\n\nNovember 16\, 2022\, 7- 9PM CT via Zoom. Zoom link will be sent to registrants. \n\n\nFind more information and register here. \n\nQuestions? Email alumni@wisconsindi.org.\n\nMeet your trainer:\nCrissy Buhr is excited to be back after her International Challenge Master (ICM) break to be working as a Trainer with Wisconsin Destination Imagination’s (WIDI) Team Managers and Volunteers once again for the 2022-2023 season!   \nAs a DI alumna of 9 years\, she participated on teams that placed  everywhere from last place at the Regional Tournament to first place at Global Finals and definitely understands that being part of a DI team is a true journey! \nFor the past 19 years she has volunteered at the Regional\, Affiliate and International levels as an Appraiser\, Regional and Affiliate Challenge Master\, and just finished her second rotation as an International Challenge Master for the Engineering Challenge. Crissy has worked with DI Inc. on curriculum development and creativity camp facilitation in the US and Asia\, served as Regional Director for the Milwaukee Region for the 2009-2010 season\, and served on the WIDI Board of Directors from 2008-2013. \n\n\nCrissy has been involved in Alumni engagement and recruitment and chaired the International DI Alumni Board during the 2010-2011 program year. Crissy’s true lies in Training and she spent 7 years as the Affiliate Training Director for WIDI from 2010-2017 where she was able to share her expertise with Team Managers and Appraisers throughout Wisconsin in a series of in person and online training sessions. Crissy’s virtual trainings have been used around the world to train Team Managers and Appraisers to ensure a fair\, consistent and positive tournament experience. In her non DI-world Crissy works in Project and Product Management for a Healthtech Software company in Madison\, Wi.
URL:https://wisconsindi.org/event/new-team-manager-crash-course-training/
LOCATION:Zoom
ATTACH;FMTTYPE=image/png:https://wisconsindi.org/wp-content/uploads/2022/10/WIDI-New-Team-Manager-Training-Virtual-Facebook-event..png
END:VEVENT
BEGIN:VEVENT
DTSTART;TZID=UTC:20221109T190000
DTEND;TZID=UTC:20221109T200000
DTSTAMP:20260423T224301
CREATED:20221002T013748Z
LAST-MODIFIED:20221002T013835Z
UID:2390-1668020400-1668024000@wisconsindi.org
SUMMARY:WIDI Board of Directors Meeting
DESCRIPTION:The WIDI Board of Directors meets monthly on the second Wednesday from 7 – 8PM via Google Meet.
URL:https://wisconsindi.org/event/nov-2022-bod-meeting/
CATEGORIES:Board of Directors,WIDI Staff
ATTACH;FMTTYPE=image/png:https://wisconsindi.org/wp-content/uploads/2022/10/Copy-of-Copy-of-2022-23-WIDI-Yard-Sign-1200-×-628-px-2.png
END:VEVENT
BEGIN:VEVENT
DTSTART;TZID=UTC:20221105T083000
DTEND;TZID=UTC:20221105T120000
DTSTAMP:20260423T224301
CREATED:20221001T180349Z
LAST-MODIFIED:20221001T180349Z
UID:2327-1667637000-1667649600@wisconsindi.org
SUMMARY:Wisconsin DI In-Person Team Manager Workshop
DESCRIPTION:Who: Any Wisconsin DI Team Manager\nWhen: Saturday\, November 5\, 2022\, 8:30AM – 12:00PM\nWhere: Wauwatosa East High School Library (2nd floor) 7500 Milwaukee Avenue Wauwatosa\, WI 53213\nWhat: This interactive workshop will help prepare Team Managers (TMs) to navigate a team through the Destination Imagination® (DI) journey.\n\nTopics to be covered:\n\noverview of DI\nyour role as a Team Manager\nexploration of both the Team Challenge and Instant Challenge experience\nguidance on working with teams of any age\n\nThere will be a special breakout session for managers of Rising Stars® Early Learning Challenge teams. \n\nThe workshop is especially intended for brand-new team managers and those with one or two years’ experience\, but anyone who wants to brush up on their DI knowledge and skills is welcome. \n\nThe workshop is free. All are welcome even if you are not located within the Milwaukee or Kettle Moraine regions. \n\nPre-registration is requested\, but walk-ins are welcome. Click here to register.\n\nQuestions? Contact Anne Coulling\, director of the Milwaukee region of Wisconsin DI\, anne.coulling@wisconsindi.org\, 262-501-8153 (call/text).
URL:https://wisconsindi.org/event/wisconsin-di-in-person-team-manager-workshop/
LOCATION:Wauwatosa East High School\, 7500 Milwaukee Avenue\, Wauwatosa\, WI\, 53213\, United States
CATEGORIES:Team Manager Training
ATTACH;FMTTYPE=image/png:https://wisconsindi.org/wp-content/uploads/2022/09/Wisconsin-DI-Team-Manager-Workshop.png
ORGANIZER;CN="Milwaukee and Kettle Moraine Regional Destination Imagination":MAILTO:anne.coulling@wisconsindi.org
END:VEVENT
BEGIN:VEVENT
DTSTART;TZID=UTC:20221015T100000
DTEND;TZID=UTC:20221015T110000
DTSTAMP:20260423T224301
CREATED:20221001T173934Z
LAST-MODIFIED:20221001T191153Z
UID:2302-1665828000-1665831600@wisconsindi.org
SUMMARY:Wisconsin DI Virtual Team Manager Coffee Hour: WIDI Welcome / Forming Teams
DESCRIPTION:Join Team Managers from around Wisconsin for a one-hour\, once-per-month candid conversation about being a DI Team Manager. \nHear from experienced TM’s about tips and tricks to help your team be successful! *Coffee is optional!* \nDates and Topics\nOctober 15th: WIDI Welcome / Forming Teams\nNovember 19th: Teamwork & Instant Challenge\nDecember 17th: Registering Your Team\nJanuary 21st: Preparing for your Tournament (with\nCompetitive and Early Learning Breakout Sessions)\nFebruary 18th: AHH! Will they ever finish?\nMarch 18th: All Things Affiliate Tournament\nApril 15th: Global Finals 101 \nTime: 10 – 11AMCT via Google Meet.  Link will be sent to all registrants.  You only need to register once per season. \nRegister here to get the meeting link* \nQuestions? Email alumni@wisconsindi.org \n*If you registered for the 2021-22 Team Manager Coffee Hours\, you must re-register for this season. Thank you. \nWe look forward to chatting with you! \nBrought to you by the Wisconsin Destination Imagination Team Manager Ambassador Program
URL:https://wisconsindi.org/event/2022-wisconsin-di-virtual-team-manager-coffee-hour-widi-welcome-forming-teams/
CATEGORIES:Team Manager Training
ATTACH;FMTTYPE=image/png:https://wisconsindi.org/wp-content/uploads/2022/09/FB-Event-Photo-Coffee-Hour.png
END:VEVENT
BEGIN:VEVENT
DTSTART;TZID=UTC:20221012T190000
DTEND;TZID=UTC:20221012T200000
DTSTAMP:20260423T224301
CREATED:20221002T013524Z
LAST-MODIFIED:20221002T013706Z
UID:2386-1665601200-1665604800@wisconsindi.org
SUMMARY:WIDI Board of Directors Meeting
DESCRIPTION:The WIDI Board of Directors meets monthly on the second Wednesday from 7 – 8PM via Google Meet.
URL:https://wisconsindi.org/event/oct-2022-widi-board-of-directors-meeting/
CATEGORIES:Board of Directors,WIDI Staff
ATTACH;FMTTYPE=image/png:https://wisconsindi.org/wp-content/uploads/2022/10/Copy-of-Copy-of-2022-23-WIDI-Yard-Sign-1200-×-628-px-2.png
END:VEVENT
END:VCALENDAR