BEGIN:VCALENDAR
VERSION:2.0
PRODID:-//Wisconsin Destination Imagination - ECPv6.15.20//NONSGML v1.0//EN
CALSCALE:GREGORIAN
METHOD:PUBLISH
X-WR-CALNAME:Wisconsin Destination Imagination
X-ORIGINAL-URL:https://wisconsindi.org
X-WR-CALDESC:Events for Wisconsin Destination Imagination
REFRESH-INTERVAL;VALUE=DURATION:PT1H
X-Robots-Tag:noindex
X-PUBLISHED-TTL:PT1H
BEGIN:VTIMEZONE
TZID:UTC
BEGIN:STANDARD
TZOFFSETFROM:+0000
TZOFFSETTO:+0000
TZNAME:UTC
DTSTART:20210101T000000
END:STANDARD
END:VTIMEZONE
BEGIN:VEVENT
DTSTART;TZID=UTC:20221012T190000
DTEND;TZID=UTC:20221012T200000
DTSTAMP:20260425T133531
CREATED:20221002T013524Z
LAST-MODIFIED:20221002T013706Z
UID:2386-1665601200-1665604800@wisconsindi.org
SUMMARY:WIDI Board of Directors Meeting
DESCRIPTION:The WIDI Board of Directors meets monthly on the second Wednesday from 7 – 8PM via Google Meet.
URL:https://wisconsindi.org/event/oct-2022-widi-board-of-directors-meeting/
CATEGORIES:Board of Directors,WIDI Staff
ATTACH;FMTTYPE=image/png:https://wisconsindi.org/wp-content/uploads/2022/10/Copy-of-Copy-of-2022-23-WIDI-Yard-Sign-1200-×-628-px-2.png
END:VEVENT
END:VCALENDAR