BEGIN:VCALENDAR
VERSION:2.0
PRODID:-//Wisconsin Destination Imagination - ECPv6.15.20//NONSGML v1.0//EN
CALSCALE:GREGORIAN
METHOD:PUBLISH
X-WR-CALNAME:Wisconsin Destination Imagination
X-ORIGINAL-URL:https://wisconsindi.org
X-WR-CALDESC:Events for Wisconsin Destination Imagination
REFRESH-INTERVAL;VALUE=DURATION:PT1H
X-Robots-Tag:noindex
X-PUBLISHED-TTL:PT1H
BEGIN:VTIMEZONE
TZID:America/Chicago
BEGIN:DAYLIGHT
TZOFFSETFROM:-0600
TZOFFSETTO:-0500
TZNAME:CDT
DTSTART:20230312T080000
END:DAYLIGHT
BEGIN:STANDARD
TZOFFSETFROM:-0500
TZOFFSETTO:-0600
TZNAME:CST
DTSTART:20231105T070000
END:STANDARD
BEGIN:DAYLIGHT
TZOFFSETFROM:-0600
TZOFFSETTO:-0500
TZNAME:CDT
DTSTART:20240310T080000
END:DAYLIGHT
BEGIN:STANDARD
TZOFFSETFROM:-0500
TZOFFSETTO:-0600
TZNAME:CST
DTSTART:20241103T070000
END:STANDARD
BEGIN:DAYLIGHT
TZOFFSETFROM:-0600
TZOFFSETTO:-0500
TZNAME:CDT
DTSTART:20250309T080000
END:DAYLIGHT
BEGIN:STANDARD
TZOFFSETFROM:-0500
TZOFFSETTO:-0600
TZNAME:CST
DTSTART:20251102T070000
END:STANDARD
END:VTIMEZONE
BEGIN:VTIMEZONE
TZID:UTC
BEGIN:STANDARD
TZOFFSETFROM:+0000
TZOFFSETTO:+0000
TZNAME:UTC
DTSTART:20230101T000000
END:STANDARD
END:VTIMEZONE
BEGIN:VEVENT
DTSTART;TZID=America/Chicago:20240210T100000
DTEND;TZID=America/Chicago:20240210T110000
DTSTAMP:20260425T123236
CREATED:20230930T000059Z
LAST-MODIFIED:20231227T001953Z
UID:3249-1707559200-1707562800@wisconsindi.org
SUMMARY:2023 - 24 Wisconsin DI Team Manager Virtual Coffee Hours
DESCRIPTION:Join Team Managers from around Wisconsin for a one-hour\, once-per-month candid conversation about being a DI Team Manager. \nHear from experienced TM’s about tips and tricks to help your team be successful! *Coffee is optional!* \nTime: 10 – 11 AM CT. \nDate/Topic\nOctober 21\, 2023: Picking a Challenge & Becoming a Team\nNovember 18\, 2023: Tackling Instant Challenge\nDecember 9\, 2023: Registering Your Team\nJanuary 13\, 2024: Preparing for Your Tournament (Early Learning & Competitive)\nFebruary 10\, 2024: ‘AHH! Will they ever finish?’ & Submitting Tournament Data Forms\nMarch 17\, 2024: All Things Affiliate Tournament\nApril 20\, 2024:  Getting Ready for Global Finals\n\nRegister to get the meeting link*: Register: https://tinyurl.com/tmvch\nQuestions? Email alumni@wisconsindi.org\n\n*If you registered for the 2022-23 Team Manager Coffee Hours\, you must re-register for this season. Thank you.\n\nWe look forward to chatting with you!\n\nBrought to you by the Wisconsin Destination Imagination Team Manager Ambassador Program
URL:https://wisconsindi.org/event/2023-24-wisconsin-di-team-manager-virtual-coffee-hours-2/
CATEGORIES:Team Manager Training
ATTACH;FMTTYPE=image/png:https://wisconsindi.org/wp-content/uploads/2022/09/FB-Event-Photo-Coffee-Hour.png
END:VEVENT
BEGIN:VEVENT
DTSTART;TZID=UTC:20240224T080000
DTEND;TZID=UTC:20240224T170000
DTSTAMP:20260425T123236
CREATED:20230826T012729Z
LAST-MODIFIED:20230826T012729Z
UID:3108-1708761600-1708794000@wisconsindi.org
SUMMARY:Northeast Sectional Tournament 2024
DESCRIPTION:The 2024 Northeast Sectional Tournament will be held Saturday\, February 24\, 2024 at the Algoma High School. \nTeams from the BayLake\, Green Bay Area\, and Northeast regions will compete at the Northeast Sectional Tournament.
URL:https://wisconsindi.org/event/northeast-sectional-tournament-2024/
LOCATION:Algoma High School\, 1715 Division St.\, Algoma\, WI\, 54201\, United States
CATEGORIES:DI Teams,Tournaments
END:VEVENT
END:VCALENDAR