BEGIN:VCALENDAR
VERSION:2.0
PRODID:-//Wisconsin Destination Imagination - ECPv6.15.20//NONSGML v1.0//EN
CALSCALE:GREGORIAN
METHOD:PUBLISH
X-ORIGINAL-URL:https://wisconsindi.org
X-WR-CALDESC:Events for Wisconsin Destination Imagination
REFRESH-INTERVAL;VALUE=DURATION:PT1H
X-Robots-Tag:noindex
X-PUBLISHED-TTL:PT1H
BEGIN:VTIMEZONE
TZID:UTC
BEGIN:STANDARD
TZOFFSETFROM:+0000
TZOFFSETTO:+0000
TZNAME:UTC
DTSTART:20240101T000000
END:STANDARD
END:VTIMEZONE
BEGIN:VEVENT
DTSTART;TZID=UTC:20250202T130000
DTEND;TZID=UTC:20250202T152000
DTSTAMP:20260424T133858
CREATED:20250116T005054Z
LAST-MODIFIED:20251210T144800Z
UID:4160-1738501200-1738509600@wisconsindi.org
SUMMARY:Southeast Regional Instant Challenge Workshop
DESCRIPTION:The Southeast Region’s annual Instant Challenge workshop will be held Sunday\, February 2\, 2025\, from 1 to 3:20 PM at the Milwaukee School of Engineering Campus Center\, 1025 N. Broadway\, in downtown Milwaukee. \nTeams will have the opportunity to complete 4 different Instant Challenges and receive feedback from DI volunteers.\nThis is for elementary and middle-level teams only. \nThe workshop is free\, but pre-registration is required. Register here: https://forms.gle/bmqBpTLL3PprNGkt5. \nTeams MUST be accompanied by a team manager or other trusted adult. It is OK to bring only part of your team\, but you should have at least two team members to participate. This workshop is open to any Wisconsin team in any region.
URL:https://wisconsindi.org/event/southeast-regional-instant-challenge-workshop/
LOCATION:Milwaukee School of Engineering Campus Center\, 1025 N. Broadway\, Milwaukee\, WI\, 53202\, United States
CATEGORIES:DI Teams,Instant Challenge
ATTACH;FMTTYPE=image/png:https://wisconsindi.org/wp-content/uploads/2025/01/2025ic-workshop-southeast.png
END:VEVENT
BEGIN:VEVENT
DTSTART;TZID=UTC:20250205T190000
DTEND;TZID=UTC:20250205T200000
DTSTAMP:20260424T133858
CREATED:20250115T022155Z
LAST-MODIFIED:20250115T022155Z
UID:4154-1738782000-1738785600@wisconsindi.org
SUMMARY:Northeast Regional Team Manager Information Session
DESCRIPTION:Northeast Region Team Managers (TM) and Program Coordinators are invited to join the NE Regional Directors (RD) for a TM information session to talk about the upcoming NE Regional Tournament. \nLearn about tournament day expectations\, the venue\, where to park and unload props\, additional activities\, etc. \nThis is your opportunity to ask the RDs questions\, so we hope to see you there! \nThe link to the call will be emailed to all NE Regional Team Managers (TM) and Program Coordinators
URL:https://wisconsindi.org/event/northeast-regional-team-manager-information-session/
LOCATION:ONLINE
CATEGORIES:DI Teams,Team Manager Training
ATTACH;FMTTYPE=image/png:https://wisconsindi.org/wp-content/uploads/2025/01/2025-northeast-TM-info-session-2.png
END:VEVENT
BEGIN:VEVENT
DTSTART;TZID=UTC:20250222T080000
DTEND;TZID=UTC:20250222T170000
DTSTAMP:20260424T133858
CREATED:20240815T222514Z
LAST-MODIFIED:20240815T223038Z
UID:4028-1740211200-1740243600@wisconsindi.org
SUMMARY:Wisconsin Destination Imagination 2025 Northeast Regional Tournament
DESCRIPTION:Student-led teams from all over Northeast Wisconsin will present their solutions to the 2024-25 Destination Imagination® (DI) Challenges at the Northeast Regional Tournament at Algoma High School on February 22\, 2025! \n2024 – 25 teams are forming now! Visit https://www.destinationimagination.org to purchase your team number. \nIf you have any questions on how to get involved\, what DI is\, or how to start a program in your area\, contact us today! Click here to find your region and contact your Regional Directors (RD) for more information. \nTeams at the Elementary Level (EL)\, Middle Level (ML)\, and Secondary Level (SL) will compete in the level of their chosen Challenge (Technical\, Scientific\, Fine Arts\, Improv\, Engineering\, and Service Learning) as well as an Instant Challenge. Early Learning teams (Rising Stars!) will present their Challenge solutions to Appraisers for positive feedback and celebrate their accomplishments for the season. \nStay tuned for tournament registration information.
URL:https://wisconsindi.org/event/wisconsin-destination-imagination-2025-northeast-regional-tournament/
LOCATION:Algoma High School\, 1715 Division St.\, Algoma\, WI\, 54201\, United States
CATEGORIES:Challenge Master,DI Teams,Tournaments,Volunteer
ATTACH;FMTTYPE=image/png:https://wisconsindi.org/wp-content/uploads/2024/08/2025-tournament-northeast-2.png
END:VEVENT
END:VCALENDAR